BEGIN:VCALENDAR
PRODID:-//GDIK Matches//gdik.dk//DA
VERSION:2.0
CALSCALE:GREGORIAN
METHOD:PUBLISH
X-WR-CALNAME:GDIK kampe
X-WR-TIMEZONE:Europe/Copenhagen
BEGIN:VTIMEZONE
TZID:Europe/Copenhagen
X-LIC-LOCATION:Europe/Copenhagen
BEGIN:STANDARD
TZOFFSETFROM:+0200
TZOFFSETTO:+0100
TZNAME:CET
DTSTART:19701025T030000
RRULE:FREQ=YEARLY;BYMONTH=10;BYDAY=-1SU
END:STANDARD
BEGIN:DAYLIGHT
TZOFFSETFROM:+0100
TZOFFSETTO:+0200
TZNAME:CEST
DTSTART:19700329T020000
RRULE:FREQ=YEARLY;BYMONTH=3;BYDAY=-1SU
END:DAYLIGHT
END:VTIMEZONE
BEGIN:VEVENT
UID:794809@gdik.dk
DTSTAMP:20260423T140051Z
DTSTART;TZID=Europe/Copenhagen:20260605T170000
DTEND;TZID=Europe/Copenhagen:20260605T190000
SUMMARY:Grejs-Dalen IK – Horsens Nord (U16 Drenge Liga 2 (2010) 11:11 -
  forår 2026)
LOCATION:Grejsdal Stadion
DESCRIPTION:Type: Fodbold\nRække: U16 Drenge Liga 2 (2010) 11:11 - forå
 r 2026\nOrganisation: Dbu\nKampinfo: https://www.dbu.dk/resultater/kamp/7
 94809_489904/kampinfo
URL:https://www.dbu.dk/resultater/kamp/794809_489904/kampinfo
END:VEVENT
END:VCALENDAR
