BEGIN:VCALENDAR
PRODID:-//GDIK Matches//gdik.dk//DA
VERSION:2.0
CALSCALE:GREGORIAN
METHOD:PUBLISH
X-WR-CALNAME:GDIK kampe
X-WR-TIMEZONE:Europe/Copenhagen
BEGIN:VTIMEZONE
TZID:Europe/Copenhagen
X-LIC-LOCATION:Europe/Copenhagen
BEGIN:STANDARD
TZOFFSETFROM:+0200
TZOFFSETTO:+0100
TZNAME:CET
DTSTART:19701025T030000
RRULE:FREQ=YEARLY;BYMONTH=10;BYDAY=-1SU
END:STANDARD
BEGIN:DAYLIGHT
TZOFFSETFROM:+0100
TZOFFSETTO:+0200
TZNAME:CEST
DTSTART:19700329T020000
RRULE:FREQ=YEARLY;BYMONTH=3;BYDAY=-1SU
END:DAYLIGHT
END:VTIMEZONE
BEGIN:VEVENT
UID:342151@gdik.dk
DTSTAMP:20260423T140228Z
DTSTART;TZID=Europe/Copenhagen:20260519T190000
DTEND;TZID=Europe/Copenhagen:20260519T210000
SUMMARY:Grejs-Dalen IK â€“ Hover IF (1) (Herrer Serie 5 11:11/9:9 -  ForÃ
 ¥r 2026)
LOCATION:Grejsdal Stadion
DESCRIPTION:Type: Fodbold\nRÃ¦kke: Herrer Serie 5 11:11/9:9 -  ForÃ¥r 202
 6\nOrganisation: Dbu\nKampinfo: https://www.dbu.dk/resultater/kamp/342151
 _485686/kampinfo
URL:https://www.dbu.dk/resultater/kamp/342151_485686/kampinfo
END:VEVENT
END:VCALENDAR
