BEGIN:VCALENDAR
PRODID:-//GDIK Matches//gdik.dk//DA
VERSION:2.0
CALSCALE:GREGORIAN
METHOD:PUBLISH
X-WR-CALNAME:GDIK kampe
X-WR-TIMEZONE:Europe/Copenhagen
BEGIN:VTIMEZONE
TZID:Europe/Copenhagen
X-LIC-LOCATION:Europe/Copenhagen
BEGIN:STANDARD
TZOFFSETFROM:+0200
TZOFFSETTO:+0100
TZNAME:CET
DTSTART:19701025T030000
RRULE:FREQ=YEARLY;BYMONTH=10;BYDAY=-1SU
END:STANDARD
BEGIN:DAYLIGHT
TZOFFSETFROM:+0100
TZOFFSETTO:+0200
TZNAME:CEST
DTSTART:19700329T020000
RRULE:FREQ=YEARLY;BYMONTH=3;BYDAY=-1SU
END:DAYLIGHT
END:VTIMEZONE
BEGIN:VEVENT
UID:1177252@gdik.dk
DTSTAMP:20260423T140121Z
DTSTART;TZID=Europe/Copenhagen:20260430T200000
DTEND;TZID=Europe/Copenhagen:20260430T220000
SUMMARY:Grejs-Dalen IK – Hover IF (Super veteraner +60\, 5-mands\, Stæ
 vneform - 2026)
LOCATION:Gormshallen - fodbold
DESCRIPTION:Type: Fodbold\nRække: Super veteraner +60\, 5-mands\, Stævn
 eform - 2026\nOrganisation: Dgi\nKampinfo: https://minidraet.dgi.dk/kamp/
 1177252
URL:https://minidraet.dgi.dk/kamp/1177252
END:VEVENT
END:VCALENDAR
