BEGIN:VCALENDAR
PRODID:-//GDIK Matches//gdik.dk//DA
VERSION:2.0
CALSCALE:GREGORIAN
METHOD:PUBLISH
X-WR-CALNAME:GDIK kampe
X-WR-TIMEZONE:Europe/Copenhagen
BEGIN:VTIMEZONE
TZID:Europe/Copenhagen
X-LIC-LOCATION:Europe/Copenhagen
BEGIN:STANDARD
TZOFFSETFROM:+0200
TZOFFSETTO:+0100
TZNAME:CET
DTSTART:19701025T030000
RRULE:FREQ=YEARLY;BYMONTH=10;BYDAY=-1SU
END:STANDARD
BEGIN:DAYLIGHT
TZOFFSETFROM:+0100
TZOFFSETTO:+0200
TZNAME:CEST
DTSTART:19700329T020000
RRULE:FREQ=YEARLY;BYMONTH=3;BYDAY=-1SU
END:DAYLIGHT
END:VTIMEZONE
BEGIN:VEVENT
UID:1172776@gdik.dk
DTSTAMP:20260423T140341Z
DTSTART;TZID=Europe/Copenhagen:20260611T190000
DTEND;TZID=Europe/Copenhagen:20260611T210000
SUMMARY:Hedensted IF â€“ Grejs-Dalen IK (+50\, 7-mands\, Turnering - ForÃ
 ¥r 2026)
LOCATION:Elsborg Park (Hedensted) - fodbold 7-mand bane 1
DESCRIPTION:Type: Fodbold\nRÃ¦kke: +50\, 7-mands\, Turnering - ForÃ¥r 202
 6\nOrganisation: Dgi\nKampinfo: https://minidraet.dgi.dk/kamp/1172776
URL:https://minidraet.dgi.dk/kamp/1172776
END:VEVENT
END:VCALENDAR
